Workbook
Name accountname: #REF!
Name Activitycode: 'PARAM - Activities'!$A$3:$A$35
Name Activityname: 'PARAM - Activities'!$B$3:$B$35
Name Activitytable: 'PARAM - Activities'!$A$3:$B$35
Name BLDescriptions: BUDGET!$S$20:$S$343
Name CountryCode: 'PARAM - Projects'!$R$3:$R$128
Name CountryCodeTable: 'PARAM - Projects'!$P$3:$R$128
Name Project_Table: 'PARAM - Projects'!$B$3:$C$128
Name projectcode: 'PARAM - Projects'!$B$3:$B$128
Name strategy: 'PARAM - Projects'!$E$3:$E$128
Name strategytable: 'PARAM - Projects'!$E$3:$F$128

Sheet BUDGET
B2: PARTNER BUDGET | AM2: YTD Actuals | AN2: Remaining Bal | AQ2: Revised budget for the remaining period | BE2: Variance
D4: Project Name: | M4: Budget currency: | O4: CHF | AM4: USD | AN4: USD | AX4: Budget currency: | AY4: =N4 -> 0 | BA4: =AY4 -> 0 | BB4: =O4 -> CHF
O5: =CONCATENATE("Exchange rate for conversion vs 1 ",O4,":") -> Exchange rate for conversion vs 1 CHF: | BB5: =CONCATENATE("Exchange rate for conversion vs 1 ",BB4,":") -> Exchange rate for conversion vs 1 CHF:
D6: Partner Organisation Name: | M6: START date: | AM6: =N6 -> 0 | AN6: =AM8+1 -> 1 | AX6: START date: | AY6: =N6 -> 0 | BA6: =AY6 -> 0
D8: Project Coordinator: | M8: END date: | BB8: =O8 -> 0
D10: Finance Focal Point: | M10: Updated END date | N10: =IF(N8="","",N8) | AM10: =DATEDIF(AM6,AM8,"m")+1 -> 1 | AN10: =DATEDIF(AN6,AN8,"m")+1 -> #NUM! | AX10: =M10 -> Updated END date | AY10: =N10 | BA10: =AY10
D12: Project Code | M12: Project Phase: | AX12: Project Phase: | AY12: =N12 -> 0 | BA12: =AY12 -> 0
D14: Project Activity: | M14: Budget version: | AX14: Budget version: | AY14: =N14 -> 0 | BA14: =AY14 -> 0
U15: GSF Online | W15: Budget allocation to partners (please select/enter partner and co/sub-partner name in row 16)) | BJ15: Budget allocation to partners (please select/enter partner and co/sub-partner name in row 16))
C16: Budget line | D16: Partner names | E16: Description of the expenditure | F16: Unit 1 name | G16: Unit 1 quantity | H16: Unit 2 name | I16: Unit 2 quantity | J16: Unit cost (payment currency) | K16: Payment currency | L16: Total cost (payment currency) | M16: Exchange rate vs budget currency | N16: Total cost in budget currency | O16: Total cost for info in | P16: % vs. direct cost | U16: (For Global consolidation) | V16: xx | W16: TBD | X16: Co/sub-partner 1 | Y16: Co/sub-partner 2 | Z16: Co/sub-partner 3 | AA16: Co/sub-partner 4 | AB16: Co/sub-partner 5 | AC16: Co/sub-partner 6 | AD16: Co/sub-partner 7 | AE16: Co/sub-partner 8 | AF16: Co/sub-partner 9 | AG16: Check | AI16: Budget notes | AM16: YTD Actuals (must be fixed at reporting date) | AN16: Remaining Bal | AQ16: Unit 1 name | AR16: Unit 1 quantity | AS16: Unit 2 name | AT16: Unit 2 quantity | AU16: Unit cost (payment currency) | AV16: Payment currency | AW16: Total cost (payment currency) | AX16: Exchange rate vs budget currency | AY16: Total cost in budget currency (for remaining period) | BA16: REVISED BUDGET (entire phase/project) | BB16: Total cost for info in | BC16: % vs. direct cost | BE16: Variance (+)increase/ (-)decrease | BF16: Variance (+)increase/ (-)decrease | BG16: Revised budget notes | BJ16: =W16 -> TBD | BK16: =X16 -> Co/sub-partner 1 | BL16: =Y16 -> Co/sub-partner 2 | BM16: =Z16 -> Co/sub-partner 3 | BN16: =AA16 -> Co/sub-partner 4 | BO16: =AB16 -> Co/sub-partner 5 | BP16: =AC16 -> Co/sub-partner 6 | BQ16: =AD16 -> Co/sub-partner 7 | ... BS16: =AF16 -> Co/sub-partner 9 | BT16: Check
M17: =CONCATENATE("curr/1 ",N4) -> curr/1 | N17: =N4 -> 0 | O17: =O4 -> CHF | W17: =$N$17 -> 0 | X17: =$N$17 -> 0 | Y17: =$N$17 -> 0 | Z17: =$N$17 -> 0 | AA17: =$N$17 -> 0 | AB17: =$N$17 -> 0 | AC17: =$N$17 -> 0 | AD17: =$N$17 -> 0 | ... AF17: =$N$17 -> 0 | AM17: USD | AN17: USD | AX17: =CONCATENATE("curr/1 ",AY4) -> curr/1 0 | AY17: =AY4 -> 0 | BA17: =BA4 -> 0 | BB17: =BB4 -> CHF | BE17: =BA17 -> 0 | BF17: =BF4 -> 0 | BJ17: =$N$17 -> 0 | BK17: =$N$17 -> 0 | BL17: =$N$17 -> 0 | BM17: =$N$17 -> 0 | BN17: =$N$17 -> 0 | BO17: =$N$17 -> 0 | BP17: =$N$17 -> 0 | BQ17: =$N$17 -> 0 | ... BS17: =$N$17 -> 0
C18: X | E18: X | G18: X | H18: X | I18: X | J18: X | K18: X | L18: X | M18: X | N18: X | O18: X | P18: X | AM18: X | AN18: X | AR18: X | AS18: X | AT18: X | AU18: X | AV18: X | AW18: X | AX18: X | AY18: X | BA18: X | BB18: X | BC18: X | BE18: X | BF18: X
B19: A | C19: PERSONNEL COSTS | N19: =SUM(N20:N63)/2 -> 0 | O19: =IF(N19="","", IF($O$8="","",N19/$O$8)) | P19: =IF(OR(N19="",N19=0),"",N19/$N$221) | Q19: =LEFT(C19) -> P | S19: BLDescriptions | W19: =SUM(W20:W63)/2 -> 0 | X19: =SUM(X20:X63)/2 -> 0 | Y19: =SUM(Y20:Y63)/2 -> 0 | Z19: =SUM(Z20:Z63)/2 -> 0 | AA19: =SUM(AA20:AA63)/2 -> 0 | AB19: =SUM(AB20:AB63)/2 -> 0 | AC19: =SUM(AC20:AC63)/2 -> 0 | AD19: =SUM(AD20:AD63)/2 -> 0 | ... AF19: =SUM(AF20:AF63)/2 -> 0 | AG19: =IF(N19="","",N19-SUM(W19:AF19)) -> 0 | AM19: =SUM(AM20:AM63)/2 -> 0 | AN19: =N19-AM19 -> 0 | AY19: =SUM(AY20:AY63)/2 -> 0 | BA19: =SUM(BA20:BA63)/2 -> #VALUE! | BB19: =IF(BA19="","", IF($O$8="","",BA19/$O$8)) -> #VALUE! | BC19: =IF(OR(BA19="",BA19=0),"",BA19/$BA$221) -> #VALUE! | BE19: =SUM(BE20:BE63)/2 -> #VALUE! | BF19: =BE19/N19 -> #VALUE! | BJ19: =SUM(BJ20:BJ63)/2 -> 0 | BK19: =SUM(BK20:BK63)/2 -> 0 | BL19: =SUM(BL20:BL63)/2 -> 0 | BM19: =SUM(BM20:BM63)/2 -> 0 | BN19: =SUM(BN20:BN63)/2 -> 0 | BO19: =SUM(BO20:BO63)/2 -> 0 | BP19: =SUM(BP20:BP63)/2 -> 0 | BQ19: =SUM(BQ20:BQ63)/2 -> 0 | ... BS19: =SUM(BS20:BS63)/2 -> 0 | BT19: =IF(BA19="","",BA19-SUM(BJ19:BS19)) -> #VALUE!
C20: A1 | E20: A1. Contribution to salaries of the permanent team | N20: =SUM(N21:N30) -> 0 | O20: =IF(N20="","", IF($O$8="","",N20/$O$8)) | P20: =IF(OR(N20="",N20=0),"",N20/$N$221) | Q20: =LEFT(C20) -> A | W20: =SUM(W21:W30) -> 0 | X20: =SUM(X21:X30) -> 0 | Y20: =SUM(Y21:Y30) -> 0 | Z20: =SUM(Z21:Z30) -> 0 | AA20: =SUM(AA21:AA30) -> 0 | AB20: =SUM(AB21:AB30) -> 0 | AC20: =SUM(AC21:AC30) -> 0 | AD20: =SUM(AD21:AD30) -> 0 | ... AF20: =SUM(AF21:AF30) -> 0 | AG20: =IF(N20="","",N20-SUM(W20:AF20)) -> 0 | AM20: =SUM(AM21:AM30) -> 0 | AN20: =N20-AM20 -> 0 | AY20: =SUM(AY21:AY30) -> 0 | BA20: =SUM(BA21:BA30) -> #VALUE! | BB20: =IF(BA20="","", IF($O$8="","",BA20/$O$8)) -> #VALUE! | BC20: =IF(OR(BA20="",BA20=0),"",BA20/$BA$221) -> #VALUE! | BE20: =SUM(BE21:BE30) -> #VALUE! | BF20: =BE20/N20 -> #VALUE! | BJ20: =SUM(BJ21:BJ30) -> 0 | BK20: =SUM(BK21:BK30) -> 0 | BL20: =SUM(BL21:BL30) -> 0 | BM20: =SUM(BM21:BM30) -> 0 | BN20: =SUM(BN21:BN30) -> 0 | BO20: =SUM(BO21:BO30) -> 0 | BP20: =SUM(BP21:BP30) -> 0 | BQ20: =SUM(BQ21:BQ30) -> 0 | ... BS20: =SUM(BS21:BS30) -> 0 | BT20: =IF(BA20="","",BA20-SUM(BJ20:BS20)) -> #VALUE!
A21: =CONCATENATE($C21,"-",$E21) -> A1-01-x | B21: =IF(E21="","",SUBTOTAL(3,$E$21:E21)) -> 1 | C21: =IF(E21="","",IF(B21<10,CONCATENATE($C$20,"-0",B21),CONCATENATE($C$20,"-",B21))) -> A1-01 | E21: x | L21: =IF(E21="","",(G21*I21*J21)) -> 0 | M21: 1 | N21: =IF(L21="","",IF(L21=0,0,(L21/M21))) -> 0 | O21: =IF(N21="","", IF($O$8="","",N21/$O$8)) | Q21: =LEFT(C21) -> A | S21: =IF(C21="","",CONCATENATE(C21,"|",E21)) -> A1-01|x | W21: =IF($D21="","",IF($D21=W$16,$N21,"")) | X21: =IF($D21="","",IF($D21=X$16,$N21,"")) | Y21: =IF($D21="","",IF($D21=Y$16,$N21,"")) | Z21: =IF($D21="","",IF($D21=Z$16,$N21,"")) | AA21: =IF($D21="","",IF($D21=AA$16,$N21,"")) | AB21: =IF($D21="","",IF($D21=AB$16,$N21,"")) | AC21: =IF($D21="","",IF($D21=AC$16,$N21,"")) | AD21: =IF($D21="","",IF($D21=AD$16,$N21,"")) | ... AF21: =IF($D21="","",IF($D21=AF$16,$N21,"")) | AG21: =IF(N21="","",N21-SUM(W21:AF21)) -> 0 | AM21: =REPORT!H38 -> 0 | AN21: =N21-AM21 -> 0 | AQ21: =F21 -> 0 | AR21: 0 | AS21: =H21 -> 0 | AT21: =I21 -> 0 | AU21: 0 | AV21: =K21 -> 0 | AW21: =IF(E21="","",ROUND(AR21*AT21*AU21,2)) -> 0 | AX21: =M21 -> 1 | AY21: =IF(AW21="","",IF(AW21=0,0,ROUND(AW21/AX21,0))) -> 0 | BA21: =AM21+AY21 -> 0 | BB21: =IF(BA21="","", IF($O$8="","",BA21/$O$8)) | BE21: =BA21-N21 -> 0 | BF21: =BE21/N21 -> #DIV/0! | BJ21: =IF($D21="","",IF($D21=BJ$16,$BA21,"")) | BK21: =IF($D21="","",IF($D21=BK$16,$BA21,"")) | BL21: =IF($D21="","",IF($D21=BL$16,$BA21,"")) | BM21: =IF($D21="","",IF($D21=BM$16,$BA21,"")) | BN21: =IF($D21="","",IF($D21=BN$16,$BA21,"")) | BO21: =IF($D21="","",IF($D21=BO$16,$BA21,"")) | BP21: =IF($D21="","",IF($D21=BP$16,$BA21,"")) | BQ21: =IF($D21="","",IF($D21=BQ$16,$BA21,"")) | ... BS21: =IF($D21="","",IF($D21=BS$16,$BA21,"")) | BT21: =IF(BA21="","",BA21-SUM(BJ21:BS21)) -> 0
A22: =CONCATENATE($C22,"-",$E22) -> A1-02-x | B22: =IF(E22="","",SUBTOTAL(3,$E$21:E22)) -> 2 | C22: =IF(E22="","",IF(B22<10,CONCATENATE($C$20,"-0",B22),CONCATENATE($C$20,"-",B22))) -> A1-02 | E22: x | L22: =IF(E22="","",(G22*I22*J22)) -> 0 | M22: 1 | N22: =IF(L22="","",IF(L22=0,0,(L22/M22))) -> 0 | O22: =IF(N22="","", IF($O$8="","",N22/$O$8)) | Q22: =LEFT(C22) -> A | S22: =IF(C22="","",CONCATENATE(C22,"|",E22)) -> A1-02|x | W22: =IF($D22="","",IF($D22=W$16,$N22,"")) | X22: =IF($D22="","",IF($D22=X$16,$N22,"")) | Y22: =IF($D22="","",IF($D22=Y$16,$N22,"")) | Z22: =IF($D22="","",IF($D22=Z$16,$N22,"")) | AA22: =IF($D22="","",IF($D22=AA$16,$N22,"")) | AB22: =IF($D22="","",IF($D22=AB$16,$N22,"")) | AC22: =IF($D22="","",IF($D22=AC$16,$N22,"")) | AD22: =IF($D22="","",IF($D22=AD$16,$N22,"")) | ... AF22: =IF($D22="","",IF($D22=AF$16,$N22,"")) | AG22: =IF(N22="","",N22-SUM(W22:AF22)) -> 0 | AM22: =REPORT!H39 -> 0 | AN22: =N22-AM22 -> 0 | AQ22: =F22 -> 0 | AR22: =G22 -> 0 | AS22: =H22 -> 0 | AT22: =I22 -> 0 | AU22: =J22 -> 0 | AV22: =K22 -> 0 | AW22: =IF(E22="","",ROUND(AR22*AT22*AU22,2)) -> 0 | AX22: =M22 -> 1 | AY22: =IF(AW22="","",IF(AW22=0,0,ROUND(AW22/AX22,0))) -> 0 | BA22: =AM22+AY22 -> 0 | BB22: =IF(BA22="","", IF($O$8="","",BA22/$O$8)) | BE22: =BA22-N22 -> 0 | BF22: =BE22/N22 -> #DIV/0! | BJ22: =IF($D22="","",IF($D22=BJ$16,$BA22,"")) | BK22: =IF($D22="","",IF($D22=BK$16,$BA22,"")) | BL22: =IF($D22="","",IF($D22=BL$16,$BA22,"")) | BM22: =IF($D22="","",IF($D22=BM$16,$BA22,"")) | BN22: =IF($D22="","",IF($D22=BN$16,$BA22,"")) | BO22: =IF($D22="","",IF($D22=BO$16,$BA22,"")) | BP22: =IF($D22="","",IF($D22=BP$16,$BA22,"")) | BQ22: =IF($D22="","",IF($D22=BQ$16,$BA22,"")) | ... BS22: =IF($D22="","",IF($D22=BS$16,$BA22,"")) | BT22: =IF(BA22="","",BA22-SUM(BJ22:BS22)) -> 0
A23: =CONCATENATE($C23,"-",$E23) -> - | B23: =IF(E23="","",SUBTOTAL(3,$E$21:E23)) | C23: =IF(E23="","",IF(B23<10,CONCATENATE($C$20,"-0",B23),CONCATENATE($C$20,"-",B23))) | L23: =IF(E23="","",(G23*I23*J23)) | M23: 1 | N23: =IF(L23="","",IF(L23=0,0,(L23/M23))) | O23: =IF(N23="","", IF($O$8="","",N23/$O$8)) | Q23: =LEFT(C23) | S23: =IF(C23="","",CONCATENATE(C23,"|",E23)) | W23: =IF($D23="","",IF($D23=W$16,$N23,"")) | X23: =IF($D23="","",IF($D23=X$16,$N23,"")) | Y23: =IF($D23="","",IF($D23=Y$16,$N23,"")) | Z23: =IF($D23="","",IF($D23=Z$16,$N23,"")) | AA23: =IF($D23="","",IF($D23=AA$16,$N23,"")) | AB23: =IF($D23="","",IF($D23=AB$16,$N23,"")) | AC23: =IF($D23="","",IF($D23=AC$16,$N23,"")) | AD23: =IF($D23="","",IF($D23=AD$16,$N23,"")) | ... AF23: =IF($D23="","",IF($D23=AF$16,$N23,"")) | AG23: =IF(N23="","",N23-SUM(W23:AF23)) | AM23: =REPORT!H40 -> 0 | AN23: =N23-AM23 -> #VALUE! | AQ23: =F23 -> 0 | AR23: =G23 -> 0 | AS23: =H23 -> 0 | AT23: =I23 -> 0 | AU23: =J23 -> 0 | AV23: =K23 -> 0 | AW23: =IF(E23="","",ROUND(AR23*AT23*AU23,2)) | AX23: =M23 -> 1 | AY23: =IF(AW23="","",IF(AW23=0,0,ROUND(AW23/AX23,0))) | BA23: =AM23+AY23 -> #VALUE! | BB23: =IF(BA23="","", IF($O$8="","",BA23/$O$8)) -> #VALUE! | BE23: =BA23-N23 -> #VALUE! | BF23: =BE23/N23 -> #VALUE! | BJ23: =IF($D23="","",IF($D23=BJ$16,$BA23,"")) | BK23: =IF($D23="","",IF($D23=BK$16,$BA23,"")) | BL23: =IF($D23="","",IF($D23=BL$16,$BA23,"")) | BM23: =IF($D23="","",IF($D23=BM$16,$BA23,"")) | BN23: =IF($D23="","",IF($D23=BN$16,$BA23,"")) | BO23: =IF($D23="","",IF($D23=BO$16,$BA23,"")) | BP23: =IF($D23="","",IF($D23=BP$16,$BA23,"")) | BQ23: =IF($D23="","",IF($D23=BQ$16,$BA23,"")) | ... BS23: =IF($D23="","",IF($D23=BS$16,$BA23,"")) | BT23: =IF(BA23="","",BA23-SUM(BJ23:BS23)) -> #VALUE!
A24: =CONCATENATE($C24,"-",$E24) -> A1-03-x | B24: =IF(E24="","",SUBTOTAL(3,$E$21:E24)) -> 3 | C24: =IF(E24="","",IF(B24<10,CONCATENATE($C$20,"-0",B24),CONCATENATE($C$20,"-",B24))) -> A1-03 | E24: x | L24: =IF(E24="","",(G24*I24*J24)) -> 0 | M24: 1 | N24: =IF(L24="","",IF(L24=0,0,(L24/M24))) -> 0 | O24: =IF(N24="","", IF($O$8="","",N24/$O$8)) | Q24: =LEFT(C24) -> A | S24: =IF(C24="","",CONCATENATE(C24,"|",E24)) -> A1-03|x | W24: =IF($D24="","",IF($D24=W$16,$N24,"")) | X24: =IF($D24="","",IF($D24=X$16,$N24,"")) | Y24: =IF($D24="","",IF($D24=Y$16,$N24,"")) | Z24: =IF($D24="","",IF($D24=Z$16,$N24,"")) | AA24: =IF($D24="","",IF($D24=AA$16,$N24,"")) | AB24: =IF($D24="","",IF($D24=AB$16,$N24,"")) | AC24: =IF($D24="","",IF($D24=AC$16,$N24,"")) | AD24: =IF($D24="","",IF($D24=AD$16,$N24,"")) | ... AF24: =IF($D24="","",IF($D24=AF$16,$N24,"")) | AG24: =IF(N24="","",N24-SUM(W24:AF24)) -> 0 | AM24: =REPORT!H41 -> 0 | AN24: =N24-AM24 -> 0 | AQ24: =F24 -> 0 | AR24: =G24 -> 0 | AS24: =H24 -> 0 | AT24: =I24 -> 0 | AU24: =J24 -> 0 | AV24: =K24 -> 0 | AW24: =IF(E24="","",ROUND(AR24*AT24*AU24,2)) -> 0 | AX24: =M24 -> 1 | AY24: =IF(AW24="","",IF(AW24=0,0,ROUND(AW24/AX24,0))) -> 0 | BA24: =AM24+AY24 -> 0 | BB24: =IF(BA24="","", IF($O$8="","",BA24/$O$8)) | BE24: =BA24-N24 -> 0 | BF24: =BE24/N24 -> #DIV/0! | BJ24: =IF($D24="","",IF($D24=BJ$16,$BA24,"")) | BK24: =IF($D24="","",IF($D24=BK$16,$BA24,"")) | BL24: =IF($D24="","",IF($D24=BL$16,$BA24,"")) | BM24: =IF($D24="","",IF($D24=BM$16,$BA24,"")) | BN24: =IF($D24="","",IF($D24=BN$16,$BA24,"")) | BO24: =IF($D24="","",IF($D24=BO$16,$BA24,"")) | BP24: =IF($D24="","",IF($D24=BP$16,$BA24,"")) | BQ24: =IF($D24="","",IF($D24=BQ$16,$BA24,"")) | ... BS24: =IF($D24="","",IF($D24=BS$16,$BA24,"")) | BT24: =IF(BA24="","",BA24-SUM(BJ24:BS24)) -> 0
A25: =CONCATENATE($C25,"-",$E25) -> A1-04-x | B25: =IF(E25="","",SUBTOTAL(3,$E$21:E25)) -> 4 | C25: =IF(E25="","",IF(B25<10,CONCATENATE($C$20,"-0",B25),CONCATENATE($C$20,"-",B25))) -> A1-04 | E25: x | L25: =IF(E25="","",(G25*I25*J25)) -> 0 | M25: 1 | N25: =IF(L25="","",IF(L25=0,0,(L25/M25))) -> 0 | O25: =IF(N25="","", IF($O$8="","",N25/$O$8)) | Q25: =LEFT(C25) -> A | S25: =IF(C25="","",CONCATENATE(C25,"|",E25)) -> A1-04|x | W25: =IF($D25="","",IF($D25=W$16,$N25,"")) | X25: =IF($D25="","",IF($D25=X$16,$N25,"")) | Y25: =IF($D25="","",IF($D25=Y$16,$N25,"")) | Z25: =IF($D25="","",IF($D25=Z$16,$N25,"")) | AA25: =IF($D25="","",IF($D25=AA$16,$N25,"")) | AB25: =IF($D25="","",IF($D25=AB$16,$N25,"")) | AC25: =IF($D25="","",IF($D25=AC$16,$N25,"")) | AD25: =IF($D25="","",IF($D25=AD$16,$N25,"")) | ... AF25: =IF($D25="","",IF($D25=AF$16,$N25,"")) | AG25: =IF(N25="","",N25-SUM(W25:AF25)) -> 0 | AM25: =REPORT!H42 -> 0 | AN25: =N25-AM25 -> 0 | AQ25: =F25 -> 0 | AR25: =G25 -> 0 | AS25: =H25 -> 0 | AT25: =I25 -> 0 | AU25: =J25 -> 0 | AV25: =K25 -> 0 | AW25: =IF(E25="","",ROUND(AR25*AT25*AU25,2)) -> 0 | AX25: =M25 -> 1 | AY25: =IF(AW25="","",IF(AW25=0,0,ROUND(AW25/AX25,0))) -> 0 | BA25: =AM25+AY25 -> 0 | BB25: =IF(BA25="","", IF($O$8="","",BA25/$O$8)) | BE25: =BA25-N25 -> 0 | BF25: =BE25/N25 -> #DIV/0! | BJ25: =IF($D25="","",IF($D25=BJ$16,$BA25,"")) | BK25: =IF($D25="","",IF($D25=BK$16,$BA25,"")) | BL25: =IF($D25="","",IF($D25=BL$16,$BA25,"")) | BM25: =IF($D25="","",IF($D25=BM$16,$BA25,"")) | BN25: =IF($D25="","",IF($D25=BN$16,$BA25,"")) | BO25: =IF($D25="","",IF($D25=BO$16,$BA25,"")) | BP25: =IF($D25="","",IF($D25=BP$16,$BA25,"")) | BQ25: =IF($D25="","",IF($D25=BQ$16,$BA25,"")) | ... BS25: =IF($D25="","",IF($D25=BS$16,$BA25,"")) | BT25: =IF(BA25="","",BA25-SUM(BJ25:BS25)) -> 0
A26: =CONCATENATE($C26,"-",$E26) -> A1-05-x | B26: =IF(E26="","",SUBTOTAL(3,$E$21:E26)) -> 5 | C26: =IF(E26="","",IF(B26<10,CONCATENATE($C$20,"-0",B26),CONCATENATE($C$20,"-",B26))) -> A1-05 | E26: x | L26: =IF(E26="","",(G26*I26*J26)) -> 0 | M26: 1 | N26: =IF(L26="","",IF(L26=0,0,(L26/M26))) -> 0 | O26: =IF(N26="","", IF($O$8="","",N26/$O$8)) | Q26: =LEFT(C26) -> A | S26: =IF(C26="","",CONCATENATE(C26,"|",E26)) -> A1-05|x | W26: =IF($D26="","",IF($D26=W$16,$N26,"")) | X26: =IF($D26="","",IF($D26=X$16,$N26,"")) | Y26: =IF($D26="","",IF($D26=Y$16,$N26,"")) | Z26: =IF($D26="","",IF($D26=Z$16,$N26,"")) | AA26: =IF($D26="","",IF($D26=AA$16,$N26,"")) | AB26: =IF($D26="","",IF($D26=AB$16,$N26,"")) | AC26: =IF($D26="","",IF($D26=AC$16,$N26,"")) | AD26: =IF($D26="","",IF($D26=AD$16,$N26,"")) | ... AF26: =IF($D26="","",IF($D26=AF$16,$N26,"")) | AG26: =IF(N26="","",N26-SUM(W26:AF26)) -> 0 | AM26: =REPORT!H43 -> 0 | AN26: =N26-AM26 -> 0 | AQ26: =F26 -> 0 | AR26: =G26 -> 0 | AS26: =H26 -> 0 | AT26: =I26 -> 0 | AU26: =J26 -> 0 | AV26: =K26 -> 0 | AW26: =IF(E26="","",ROUND(AR26*AT26*AU26,2)) -> 0 | AX26: =M26 -> 1 | AY26: =IF(AW26="","",IF(AW26=0,0,ROUND(AW26/AX26,0))) -> 0 | BA26: =AM26+AY26 -> 0 | BB26: =IF(BA26="","", IF($O$8="","",BA26/$O$8)) | BE26: =BA26-N26 -> 0 | BF26: =BE26/N26 -> #DIV/0! | BJ26: =IF($D26="","",IF($D26=BJ$16,$BA26,"")) | BK26: =IF($D26="","",IF($D26=BK$16,$BA26,"")) | BL26: =IF($D26="","",IF($D26=BL$16,$BA26,"")) | BM26: =IF($D26="","",IF($D26=BM$16,$BA26,"")) | BN26: =IF($D26="","",IF($D26=BN$16,$BA26,"")) | BO26: =IF($D26="","",IF($D26=BO$16,$BA26,"")) | BP26: =IF($D26="","",IF($D26=BP$16,$BA26,"")) | BQ26: =IF($D26="","",IF($D26=BQ$16,$BA26,"")) | ... BS26: =IF($D26="","",IF($D26=BS$16,$BA26,"")) | BT26: =IF(BA26="","",BA26-SUM(BJ26:BS26)) -> 0
A27: =CONCATENATE($C27,"-",$E27) -> A1-06-x | B27: =IF(E27="","",SUBTOTAL(3,$E$21:E27)) -> 6 | C27: =IF(E27="","",IF(B27<10,CONCATENATE($C$20,"-0",B27),CONCATENATE($C$20,"-",B27))) -> A1-06 | E27: x | L27: =IF(E27="","",(G27*I27*J27)) -> 0 | M27: 1 | N27: =IF(L27="","",IF(L27=0,0,(L27/M27))) -> 0 | O27: =IF(N27="","", IF($O$8="","",N27/$O$8)) | Q27: =LEFT(C27) -> A | S27: =IF(C27="","",CONCATENATE(C27,"|",E27)) -> A1-06|x | W27: =IF($D27="","",IF($D27=W$16,$N27,"")) | X27: =IF($D27="","",IF($D27=X$16,$N27,"")) | Y27: =IF($D27="","",IF($D27=Y$16,$N27,"")) | Z27: =IF($D27="","",IF($D27=Z$16,$N27,"")) | AA27: =IF($D27="","",IF($D27=AA$16,$N27,"")) | AB27: =IF($D27="","",IF($D27=AB$16,$N27,"")) | AC27: =IF($D27="","",IF($D27=AC$16,$N27,"")) | AD27: =IF($D27="","",IF($D27=AD$16,$N27,"")) | ... AF27: =IF($D27="","",IF($D27=AF$16,$N27,"")) | AG27: =IF(N27="","",N27-SUM(W27:AF27)) -> 0 | AM27: =REPORT!H44 -> 0 | AN27: =N27-AM27 -> 0 | AQ27: =F27 -> 0 | AR27: =G27 -> 0 | AS27: =H27 -> 0 | AT27: =I27 -> 0 | AU27: =J27 -> 0 | AV27: =K27 -> 0 | AW27: =IF(E27="","",ROUND(AR27*AT27*AU27,2)) -> 0 | AX27: =M27 -> 1 | AY27: =IF(AW27="","",IF(AW27=0,0,ROUND(AW27/AX27,0))) -> 0 | BA27: =AM27+AY27 -> 0 | BB27: =IF(BA27="","", IF($O$8="","",BA27/$O$8)) | BE27: =BA27-N27 -> 0 | BF27: =BE27/N27 -> #DIV/0! | BJ27: =IF($D27="","",IF($D27=BJ$16,$BA27,"")) | BK27: =IF($D27="","",IF($D27=BK$16,$BA27,"")) | BL27: =IF($D27="","",IF($D27=BL$16,$BA27,"")) | BM27: =IF($D27="","",IF($D27=BM$16,$BA27,"")) | BN27: =IF($D27="","",IF($D27=BN$16,$BA27,"")) | BO27: =IF($D27="","",IF($D27=BO$16,$BA27,"")) | BP27: =IF($D27="","",IF($D27=BP$16,$BA27,"")) | BQ27: =IF($D27="","",IF($D27=BQ$16,$BA27,"")) | ... BS27: =IF($D27="","",IF($D27=BS$16,$BA27,"")) | BT27: =IF(BA27="","",BA27-SUM(BJ27:BS27)) -> 0
A28: =CONCATENATE($C28,"-",$E28) -> A1-07-x | B28: =IF(E28="","",SUBTOTAL(3,$E$21:E28)) -> 7 | C28: =IF(E28="","",IF(B28<10,CONCATENATE($C$20,"-0",B28),CONCATENATE($C$20,"-",B28))) -> A1-07 | E28: x | L28: =IF(E28="","",(G28*I28*J28)) -> 0 | M28: 1 | N28: =IF(L28="","",IF(L28=0,0,(L28/M28))) -> 0 | O28: =IF(N28="","", IF($O$8="","",N28/$O$8)) | Q28: =LEFT(C28) -> A | S28: =IF(C28="","",CONCATENATE(C28,"|",E28)) -> A1-07|x | W28: =IF($D28="","",IF($D28=W$16,$N28,"")) | X28: =IF($D28="","",IF($D28=X$16,$N28,"")) | Y28: =IF($D28="","",IF($D28=Y$16,$N28,"")) | Z28: =IF($D28="","",IF($D28=Z$16,$N28,"")) | AA28: =IF($D28="","",IF($D28=AA$16,$N28,"")) | AB28: =IF($D28="","",IF($D28=AB$16,$N28,"")) | AC28: =IF($D28="","",IF($D28=AC$16,$N28,"")) | AD28: =IF($D28="","",IF($D28=AD$16,$N28,"")) | ... AF28: =IF($D28="","",IF($D28=AF$16,$N28,"")) | AG28: =IF(N28="","",N28-SUM(W28:AF28)) -> 0 | AM28: =REPORT!H45 -> 0 | AN28: =N28-AM28 -> 0 | AQ28: =F28 -> 0 | AR28: =G28 -> 0 | AS28: =H28 -> 0 | AT28: =I28 -> 0 | AU28: =J28 -> 0 | AV28: =K28 -> 0 | AW28: =IF(E28="","",ROUND(AR28*AT28*AU28,2)) -> 0 | AX28: =M28 -> 1 | AY28: =IF(AW28="","",IF(AW28=0,0,ROUND(AW28/AX28,0))) -> 0 | BA28: =AM28+AY28 -> 0 | BB28: =IF(BA28="","", IF($O$8="","",BA28/$O$8)) | BE28: =BA28-N28 -> 0 | BF28: =BE28/N28 -> #DIV/0! | BJ28: =IF($D28="","",IF($D28=BJ$16,$BA28,"")) | BK28: =IF($D28="","",IF($D28=BK$16,$BA28,"")) | BL28: =IF($D28="","",IF($D28=BL$16,$BA28,"")) | BM28: =IF($D28="","",IF($D28=BM$16,$BA28,"")) | BN28: =IF($D28="","",IF($D28=BN$16,$BA28,"")) | BO28: =IF($D28="","",IF($D28=BO$16,$BA28,"")) | BP28: =IF($D28="","",IF($D28=BP$16,$BA28,"")) | BQ28: =IF($D28="","",IF($D28=BQ$16,$BA28,"")) | ... BS28: =IF($D28="","",IF($D28=BS$16,$BA28,"")) | BT28: =IF(BA28="","",BA28-SUM(BJ28:BS28)) -> 0
A29: =CONCATENATE($C29,"-",$E29) -> A1-08-x | B29: =IF(E29="","",SUBTOTAL(3,$E$21:E29)) -> 8 | C29: =IF(E29="","",IF(B29<10,CONCATENATE($C$20,"-0",B29),CONCATENATE($C$20,"-",B29))) -> A1-08 | E29: x | L29: =IF(E29="","",(G29*I29*J29)) -> 0 | M29: 1 | N29: =IF(L29="","",IF(L29=0,0,(L29/M29))) -> 0 | O29: =IF(N29="","", IF($O$8="","",N29/$O$8)) | Q29: =LEFT(C29) -> A | S29: =IF(C29="","",CONCATENATE(C29,"|",E29)) -> A1-08|x | W29: =IF($D29="","",IF($D29=W$16,$N29,"")) | X29: =IF($D29="","",IF($D29=X$16,$N29,"")) | Y29: =IF($D29="","",IF($D29=Y$16,$N29,"")) | Z29: =IF($D29="","",IF($D29=Z$16,$N29,"")) | AA29: =IF($D29="","",IF($D29=AA$16,$N29,"")) | AB29: =IF($D29="","",IF($D29=AB$16,$N29,"")) | AC29: =IF($D29="","",IF($D29=AC$16,$N29,"")) | AD29: =IF($D29="","",IF($D29=AD$16,$N29,"")) | ... AF29: =IF($D29="","",IF($D29=AF$16,$N29,"")) | AG29: =IF(N29="","",N29-SUM(W29:AF29)) -> 0 | AM29: =REPORT!H46 -> 0 | AN29: =N29-AM29 -> 0 | AQ29: =F29 -> 0 | AR29: =G29 -> 0 | AS29: =H29 -> 0 | AT29: =I29 -> 0 | AU29: =J29 -> 0 | AV29: =K29 -> 0 | AW29: =IF(E29="","",ROUND(AR29*AT29*AU29,2)) -> 0 | AX29: =M29 -> 1 | AY29: =IF(AW29="","",IF(AW29=0,0,ROUND(AW29/AX29,0))) -> 0 | BA29: =AM29+AY29 -> 0 | BB29: =IF(BA29="","", IF($O$8="","",BA29/$O$8)) | BE29: =BA29-N29 -> 0 | BF29: =BE29/N29 -> #DIV/0! | BJ29: =IF($D29="","",IF($D29=BJ$16,$BA29,"")) | BK29: =IF($D29="","",IF($D29=BK$16,$BA29,"")) | BL29: =IF($D29="","",IF($D29=BL$16,$BA29,"")) | BM29: =IF($D29="","",IF($D29=BM$16,$BA29,"")) | BN29: =IF($D29="","",IF($D29=BN$16,$BA29,"")) | BO29: =IF($D29="","",IF($D29=BO$16,$BA29,"")) | BP29: =IF($D29="","",IF($D29=BP$16,$BA29,"")) | BQ29: =IF($D29="","",IF($D29=BQ$16,$BA29,"")) | ... BS29: =IF($D29="","",IF($D29=BS$16,$BA29,"")) | BT29: =IF(BA29="","",BA29-SUM(BJ29:BS29)) -> 0
A30: =CONCATENATE($C30,"-",$E30) -> A1-09-x | B30: =IF(E30="","",SUBTOTAL(3,$E$21:E30)) -> 9 | C30: =IF(E30="","",IF(B30<10,CONCATENATE($C$20,"-0",B30),CONCATENATE($C$20,"-",B30))) -> A1-09 | E30: x | L30: =IF(E30="","",(G30*I30*J30)) -> 0 | M30: 1 | N30: =IF(L30="","",IF(L30=0,0,(L30/M30))) -> 0 | O30: =IF(N30="","", IF($O$8="","",N30/$O$8)) | Q30: =LEFT(C30) -> A | S30: =IF(C30="","",CONCATENATE(C30,"|",E30)) -> A1-09|x | W30: =IF($D30="","",IF($D30=W$16,$N30,"")) | X30: =IF($D30="","",IF($D30=X$16,$N30,"")) | Y30: =IF($D30="","",IF($D30=Y$16,$N30,"")) | Z30: =IF($D30="","",IF($D30=Z$16,$N30,"")) | AA30: =IF($D30="","",IF($D30=AA$16,$N30,"")) | AB30: =IF($D30="","",IF($D30=AB$16,$N30,"")) | AC30: =IF($D30="","",IF($D30=AC$16,$N30,"")) | AD30: =IF($D30="","",IF($D30=AD$16,$N30,"")) | ... AF30: =IF($D30="","",IF($D30=AF$16,$N30,"")) | AG30: =IF(N30="","",N30-SUM(W30:AF30)) -> 0 | AM30: =REPORT!H47 -> 0 | AN30: =N30-AM30 -> 0 | AQ30: =F30 -> 0 | AR30: =G30 -> 0 | AS30: =H30 -> 0 | AT30: =I30 -> 0 | AU30: =J30 -> 0 | AV30: =K30 -> 0 | AW30: =IF(E30="","",ROUND(AR30*AT30*AU30,2)) -> 0 | AX30: =M30 -> 1 | AY30: =IF(AW30="","",IF(AW30=0,0,ROUND(AW30/AX30,0))) -> 0 | BA30: =AM30+AY30 -> 0 | BB30: =IF(BA30="","", IF($O$8="","",BA30/$O$8)) | BE30: =BA30-N30 -> 0 | BF30: =BE30/N30 -> #DIV/0! | BJ30: =IF($D30="","",IF($D30=BJ$16,$BA30,"")) | BK30: =IF($D30="","",IF($D30=BK$16,$BA30,"")) | BL30: =IF($D30="","",IF($D30=BL$16,$BA30,"")) | BM30: =IF($D30="","",IF($D30=BM$16,$BA30,"")) | BN30: =IF($D30="","",IF($D30=BN$16,$BA30,"")) | BO30: =IF($D30="","",IF($D30=BO$16,$BA30,"")) | BP30: =IF($D30="","",IF($D30=BP$16,$BA30,"")) | BQ30: =IF($D30="","",IF($D30=BQ$16,$BA30,"")) | ... BS30: =IF($D30="","",IF($D30=BS$16,$BA30,"")) | BT30: =IF(BA30="","",BA30-SUM(BJ30:BS30)) -> 0
C31: A2 | E31: A2. Salaries of project coordination team | N31: =SUM(N32:N41) -> 0 | O31: =IF(N31="","", IF($O$8="","",N31/$O$8)) | P31: =IF(OR(N31="",N31=0),"",N31/$N$221) | Q31: =LEFT(C31) -> A | W31: =SUM(W32:W41) -> 0 | X31: =SUM(X32:X41) -> 0 | Y31: =SUM(Y32:Y41) -> 0 | Z31: =SUM(Z32:Z41) -> 0 | AA31: =SUM(AA32:AA41) -> 0 | AB31: =SUM(AB32:AB41) -> 0 | AC31: =SUM(AC32:AC41) -> 0 | AD31: =SUM(AD32:AD41) -> 0 | ... AF31: =SUM(AF32:AF41) -> 0 | AG31: =IF(N31="","",N31-SUM(W31:AF31)) -> 0 | AM31: =SUM(AM32:AM41) -> 0 | AN31: =N31-AM31 -> 0 | AY31: =SUM(AY32:AY41) -> 0 | BA31: =SUM(BA32:BA41) -> 0 | BB31: =IF(BA31="","", IF($O$8="","",BA31/$O$8)) | BC31: =IF(OR(BA31="",BA31=0),"",BA31/$BA$221) | BE31: =SUM(BE32:BE41) -> 0 | BF31: =BE31/N31 -> #DIV/0! | BJ31: =SUM(BJ32:BJ41) -> 0 | BK31: =SUM(BK32:BK41) -> 0 | BL31: =SUM(BL32:BL41) -> 0 | BM31: =SUM(BM32:BM41) -> 0 | BN31: =SUM(BN32:BN41) -> 0 | BO31: =SUM(BO32:BO41) -> 0 | BP31: =SUM(BP32:BP41) -> 0 | BQ31: =SUM(BQ32:BQ41) -> 0 | ... BS31: =SUM(BS32:BS41) -> 0 | BT31: =IF(BA31="","",BA31-SUM(BJ31:BS31)) -> 0
A32: =CONCATENATE($C32,"-",$E32) -> A2-01-x | B32: =IF(E32="","",SUBTOTAL(3,$E$32:E32)) -> 1 | C32: =IF(E32="","",IF(B32<10,CONCATENATE($C$31,"-0",B32),CONCATENATE($C$31,"-",B32))) -> A2-01 | E32: x | L32: =IF(E32="","",(G32*I32*J32)) -> 0 | M32: 1 | N32: =IF(L32="","",IF(L32=0,0,(L32/M32))) -> 0 | O32: =IF(N32="","", IF($O$8="","",N32/$O$8)) | Q32: =LEFT(C32) -> A | S32: =IF(C32="","",CONCATENATE(C32,"|",E32)) -> A2-01|x | W32: =IF($D32="","",IF($D32=W$16,$N32,"")) | X32: =IF($D32="","",IF($D32=X$16,$N32,"")) | Y32: =IF($D32="","",IF($D32=Y$16,$N32,"")) | Z32: =IF($D32="","",IF($D32=Z$16,$N32,"")) | AA32: =IF($D32="","",IF($D32=AA$16,$N32,"")) | AB32: =IF($D32="","",IF($D32=AB$16,$N32,"")) | AC32: =IF($D32="","",IF($D32=AC$16,$N32,"")) | AD32: =IF($D32="","",IF($D32=AD$16,$N32,"")) | ... AF32: =IF($D32="","",IF($D32=AF$16,$N32,"")) | AG32: =IF(N32="","",N32-SUM(W32:AF32)) -> 0 | AM32: =REPORT!H49 -> 0 | AN32: =N32-AM32 -> 0 | AQ32: =F32 -> 0 | AR32: =G32 -> 0 | AS32: =H32 -> 0 | AT32: =I32 -> 0 | AU32: =J32 -> 0 | AV32: =K32 -> 0 | AW32: =IF(E32="","",ROUND(AR32*AT32*AU32,2)) -> 0 | AX32: =M32 -> 1 | AY32: =IF(AW32="","",IF(AW32=0,0,ROUND(AW32/AX32,0))) -> 0 | BA32: =AM32+AY32 -> 0 | BB32: =IF(BA32="","", IF($O$8="","",BA32/$O$8)) | BE32: =BA32-N32 -> 0 | BF32: =BE32/N32 -> #DIV/0! | BJ32: =IF($D32="","",IF($D32=BJ$16,$BA32,"")) | BK32: =IF($D32="","",IF($D32=BK$16,$BA32,"")) | BL32: =IF($D32="","",IF($D32=BL$16,$BA32,"")) | BM32: =IF($D32="","",IF($D32=BM$16,$BA32,"")) | BN32: =IF($D32="","",IF($D32=BN$16,$BA32,"")) | BO32: =IF($D32="","",IF($D32=BO$16,$BA32,"")) | BP32: =IF($D32="","",IF($D32=BP$16,$BA32,"")) | BQ32: =IF($D32="","",IF($D32=BQ$16,$BA32,"")) | ... BS32: =IF($D32="","",IF($D32=BS$16,$BA32,"")) | BT32: =IF(BA32="","",BA32-SUM(BJ32:BS32)) -> 0
A33: =CONCATENATE($C33,"-",$E33) -> A2-02-x | B33: =IF(E33="","",SUBTOTAL(3,$E$32:E33)) -> 2 | C33: =IF(E33="","",IF(B33<10,CONCATENATE($C$31,"-0",B33),CONCATENATE($C$31,"-",B33))) -> A2-02 | E33: x | L33: =IF(E33="","",(G33*I33*J33)) -> 0 | M33: 1 | N33: =IF(L33="","",IF(L33=0,0,(L33/M33))) -> 0 | O33: =IF(N33="","", IF($O$8="","",N33/$O$8)) | Q33: =LEFT(C33) -> A | S33: =IF(C33="","",CONCATENATE(C33,"|",E33)) -> A2-02|x | W33: =IF($D33="","",IF($D33=W$16,$N33,"")) | X33: =IF($D33="","",IF($D33=X$16,$N33,"")) | Y33: =IF($D33="","",IF($D33=Y$16,$N33,"")) | Z33: =IF($D33="","",IF($D33=Z$16,$N33,"")) | AA33: =IF($D33="","",IF($D33=AA$16,$N33,"")) | AB33: =IF($D33="","",IF($D33=AB$16,$N33,"")) | AC33: =IF($D33="","",IF($D33=AC$16,$N33,"")) | AD33: =IF($D33="","",IF($D33=AD$16,$N33,"")) | ... AF33: =IF($D33="","",IF($D33=AF$16,$N33,"")) | AG33: =IF(N33="","",N33-SUM(W33:AF33)) -> 0 | AM33: =REPORT!H50 -> 0 | AN33: =N33-AM33 -> 0 | AQ33: =F33 -> 0 | AR33: =G33 -> 0 | AS33: =H33 -> 0 | AT33: =I33 -> 0 | AU33: =J33 -> 0 | AV33: =K33 -> 0 | AW33: =IF(E33="","",ROUND(AR33*AT33*AU33,2)) -> 0 | AX33: =M33 -> 1 | AY33: =IF(AW33="","",IF(AW33=0,0,ROUND(AW33/AX33,0))) -> 0 | BA33: =AM33+AY33 -> 0 | BB33: =IF(BA33="","", IF($O$8="","",BA33/$O$8)) | BE33: =BA33-N33 -> 0 | BF33: =BE33/N33 -> #DIV/0! | BJ33: =IF($D33="","",IF($D33=BJ$16,$BA33,"")) | BK33: =IF($D33="","",IF($D33=BK$16,$BA33,"")) | BL33: =IF($D33="","",IF($D33=BL$16,$BA33,"")) | BM33: =IF($D33="","",IF($D33=BM$16,$BA33,"")) | BN33: =IF($D33="","",IF($D33=BN$16,$BA33,"")) | BO33: =IF($D33="","",IF($D33=BO$16,$BA33,"")) | BP33: =IF($D33="","",IF($D33=BP$16,$BA33,"")) | BQ33: =IF($D33="","",IF($D33=BQ$16,$BA33,"")) | ... BS33: =IF($D33="","",IF($D33=BS$16,$BA33,"")) | BT33: =IF(BA33="","",BA33-SUM(BJ33:BS33)) -> 0
A34: =CONCATENATE($C34,"-",$E34) -> A2-03-x | B34: =IF(E34="","",SUBTOTAL(3,$E$32:E34)) -> 3 | C34: =IF(E34="","",IF(B34<10,CONCATENATE($C$31,"-0",B34),CONCATENATE($C$31,"-",B34))) -> A2-03 | E34: x | L34: =IF(E34="","",(G34*I34*J34)) -> 0 | M34: 1 | N34: =IF(L34="","",IF(L34=0,0,(L34/M34))) -> 0 | O34: =IF(N34="","", IF($O$8="","",N34/$O$8)) | Q34: =LEFT(C34) -> A | S34: =IF(C34="","",CONCATENATE(C34,"|",E34)) -> A2-03|x | W34: =IF($D34="","",IF($D34=W$16,$N34,"")) | X34: =IF($D34="","",IF($D34=X$16,$N34,"")) | Y34: =IF($D34="","",IF($D34=Y$16,$N34,"")) | Z34: =IF($D34="","",IF($D34=Z$16,$N34,"")) | AA34: =IF($D34="","",IF($D34=AA$16,$N34,"")) | AB34: =IF($D34="","",IF($D34=AB$16,$N34,"")) | AC34: =IF($D34="","",IF($D34=AC$16,$N34,"")) | AD34: =IF($D34="","",IF($D34=AD$16,$N34,"")) | ... AF34: =IF($D34="","",IF($D34=AF$16,$N34,"")) | AG34: =IF(N34="","",N34-SUM(W34:AF34)) -> 0 | AM34: =REPORT!H51 -> 0 | AN34: =N34-AM34 -> 0 | AQ34: =F34 -> 0 | AR34: =G34 -> 0 | AS34: =H34 -> 0 | AT34: =I34 -> 0 | AU34: =J34 -> 0 | AV34: =K34 -> 0 | AW34: =IF(E34="","",ROUND(AR34*AT34*AU34,2)) -> 0 | AX34: =M34 -> 1 | AY34: =IF(AW34="","",IF(AW34=0,0,ROUND(AW34/AX34,0))) -> 0 | BA34: =AM34+AY34 -> 0 | BB34: =IF(BA34="","", IF($O$8="","",BA34/$O$8)) | BE34: =BA34-N34 -> 0 | BF34: =BE34/N34 -> #DIV/0! | BJ34: =IF($D34="","",IF($D34=BJ$16,$BA34,"")) | BK34: =IF($D34="","",IF($D34=BK$16,$BA34,"")) | BL34: =IF($D34="","",IF($D34=BL$16,$BA34,"")) | BM34: =IF($D34="","",IF($D34=BM$16,$BA34,"")) | BN34: =IF($D34="","",IF($D34=BN$16,$BA34,"")) | BO34: =IF($D34="","",IF($D34=BO$16,$BA34,"")) | BP34: =IF($D34="","",IF($D34=BP$16,$BA34,"")) | BQ34: =IF($D34="","",IF($D34=BQ$16,$BA34,"")) | ... BS34: =IF($D34="","",IF($D34=BS$16,$BA34,"")) | BT34: =IF(BA34="","",BA34-SUM(BJ34:BS34)) -> 0
A35: =CONCATENATE($C35,"-",$E35) -> A2-04-x | B35: =IF(E35="","",SUBTOTAL(3,$E$32:E35)) -> 4 | C35: =IF(E35="","",IF(B35<10,CONCATENATE($C$31,"-0",B35),CONCATENATE($C$31,"-",B35))) -> A2-04 | E35: x | L35: =IF(E35="","",(G35*I35*J35)) -> 0 | M35: 1 | N35: =IF(L35="","",IF(L35=0,0,(L35/M35))) -> 0 | O35: =IF(N35="","", IF($O$8="","",N35/$O$8)) | Q35: =LEFT(C35) -> A | S35: =IF(C35="","",CONCATENATE(C35,"|",E35)) -> A2-04|x | W35: =IF($D35="","",IF($D35=W$16,$N35,"")) | X35: =IF($D35="","",IF($D35=X$16,$N35,"")) | Y35: =IF($D35="","",IF($D35=Y$16,$N35,"")) | Z35: =IF($D35="","",IF($D35=Z$16,$N35,"")) | AA35: =IF($D35="","",IF($D35=AA$16,$N35,"")) | AB35: =IF($D35="","",IF($D35=AB$16,$N35,"")) | AC35: =IF($D35="","",IF($D35=AC$16,$N35,"")) | AD35: =IF($D35="","",IF($D35=AD$16,$N35,"")) | ... AF35: =IF($D35="","",IF($D35=AF$16,$N35,"")) | AG35: =IF(N35="","",N35-SUM(W35:AF35)) -> 0 | AM35: =REPORT!H52 -> 0 | AN35: =N35-AM35 -> 0 | AQ35: =F35 -> 0 | AR35: =G35 -> 0 | AS35: =H35 -> 0 | AT35: =I35 -> 0 | AU35: =J35 -> 0 | AV35: =K35 -> 0 | AW35: =IF(E35="","",ROUND(AR35*AT35*AU35,2)) -> 0 | AX35: =M35 -> 1 | AY35: =IF(AW35="","",IF(AW35=0,0,ROUND(AW35/AX35,0))) -> 0 | BA35: =AM35+AY35 -> 0 | BB35: =IF(BA35="","", IF($O$8="","",BA35/$O$8)) | BE35: =BA35-N35 -> 0 | BF35: =BE35/N35 -> #DIV/0! | BJ35: =IF($D35="","",IF($D35=BJ$16,$BA35,"")) | BK35: =IF($D35="","",IF($D35=BK$16,$BA35,"")) | BL35: =IF($D35="","",IF($D35=BL$16,$BA35,"")) | BM35: =IF($D35="","",IF($D35=BM$16,$BA35,"")) | BN35: =IF($D35="","",IF($D35=BN$16,$BA35,"")) | BO35: =IF($D35="","",IF($D35=BO$16,$BA35,"")) | BP35: =IF($D35="","",IF($D35=BP$16,$BA35,"")) | BQ35: =IF($D35="","",IF($D35=BQ$16,$BA35,"")) | ... BS35: =IF($D35="","",IF($D35=BS$16,$BA35,"")) | BT35: =IF(BA35="","",BA35-SUM(BJ35:BS35)) -> 0
A36: =CONCATENATE($C36,"-",$E36) -> A2-05-x | B36: =IF(E36="","",SUBTOTAL(3,$E$32:E36)) -> 5 | C36: =IF(E36="","",IF(B36<10,CONCATENATE($C$31,"-0",B36),CONCATENATE($C$31,"-",B36))) -> A2-05 | E36: x | L36: =IF(E36="","",(G36*I36*J36)) -> 0 | M36: 1 | N36: =IF(L36="","",IF(L36=0,0,(L36/M36))) -> 0 | O36: =IF(N36="","", IF($O$8="","",N36/$O$8)) | Q36: =LEFT(C36) -> A | S36: =IF(C36="","",CONCATENATE(C36,"|",E36)) -> A2-05|x | W36: =IF($D36="","",IF($D36=W$16,$N36,"")) | X36: =IF($D36="","",IF($D36=X$16,$N36,"")) | Y36: =IF($D36="","",IF($D36=Y$16,$N36,"")) | Z36: =IF($D36="","",IF($D36=Z$16,$N36,"")) | AA36: =IF($D36="","",IF($D36=AA$16,$N36,"")) | AB36: =IF($D36="","",IF($D36=AB$16,$N36,"")) | AC36: =IF($D36="","",IF($D36=AC$16,$N36,"")) | AD36: =IF($D36="","",IF($D36=AD$16,$N36,"")) | ... AF36: =IF($D36="","",IF($D36=AF$16,$N36,"")) | AG36: =IF(N36="","",N36-SUM(W36:AF36)) -> 0 | AM36: =REPORT!H53 -> 0 | AN36: =N36-AM36 -> 0 | AQ36: =F36 -> 0 | AR36: =G36 -> 0 | AS36: =H36 -> 0 | AT36: =I36 -> 0 | AU36: =J36 -> 0 | AV36: =K36 -> 0 | AW36: =IF(E36="","",ROUND(AR36*AT36*AU36,2)) -> 0 | AX36: =M36 -> 1 | AY36: =IF(AW36="","",IF(AW36=0,0,ROUND(AW36/AX36,0))) -> 0 | BA36: =AM36+AY36 -> 0 | BB36: =IF(BA36="","", IF($O$8="","",BA36/$O$8)) | BE36: =BA36-N36 -> 0 | BF36: =BE36/N36 -> #DIV/0! | BJ36: =IF($D36="","",IF($D36=BJ$16,$BA36,"")) | BK36: =IF($D36="","",IF($D36=BK$16,$BA36,"")) | BL36: =IF($D36="","",IF($D36=BL$16,$BA36,"")) | BM36: =IF($D36="","",IF($D36=BM$16,$BA36,"")) | BN36: =IF($D36="","",IF($D36=BN$16,$BA36,"")) | BO36: =IF($D36="","",IF($D36=BO$16,$BA36,"")) | BP36: =IF($D36="","",IF($D36=BP$16,$BA36,"")) | BQ36: =IF($D36="","",IF($D36=BQ$16,$BA36,"")) | ... BS36: =IF($D36="","",IF($D36=BS$16,$BA36,"")) | BT36: =IF(BA36="","",BA36-SUM(BJ36:BS36)) -> 0
A37: =CONCATENATE($C37,"-",$E37) -> A2-06-x | B37: =IF(E37="","",SUBTOTAL(3,$E$32:E37)) -> 6 | C37: =IF(E37="","",IF(B37<10,CONCATENATE($C$31,"-0",B37),CONCATENATE($C$31,"-",B37))) -> A2-06 | E37: x | L37: =IF(E37="","",(G37*I37*J37)) -> 0 | M37: 1 | N37: =IF(L37="","",IF(L37=0,0,(L37/M37))) -> 0 | O37: =IF(N37="","", IF($O$8="","",N37/$O$8)) | Q37: =LEFT(C37) -> A | S37: =IF(C37="","",CONCATENATE(C37,"|",E37)) -> A2-06|x | W37: =IF($D37="","",IF($D37=W$16,$N37,"")) | X37: =IF($D37="","",IF($D37=X$16,$N37,"")) | Y37: =IF($D37="","",IF($D37=Y$16,$N37,"")) | Z37: =IF($D37="","",IF($D37=Z$16,$N37,"")) | AA37: =IF($D37="","",IF($D37=AA$16,$N37,"")) | AB37: =IF($D37="","",IF($D37=AB$16,$N37,"")) | AC37: =IF($D37="","",IF($D37=AC$16,$N37,"")) | AD37: =IF($D37="","",IF($D37=AD$16,$N37,"")) | ... AF37: =IF($D37="","",IF($D37=AF$16,$N37,"")) | AG37: =IF(N37="","",N37-SUM(W37:AF37)) -> 0 | AM37: =REPORT!H54 -> 0 | AN37: =N37-AM37 -> 0 | AQ37: =F37 -> 0 | AR37: =G37 -> 0 | AS37: =H37 -> 0 | AT37: =I37 -> 0 | AU37: =J37 -> 0 | AV37: =K37 -> 0 | AW37: =IF(E37="","",ROUND(AR37*AT37*AU37,2)) -> 0 | AX37: =M37 -> 1 | AY37: =IF(AW37="","",IF(AW37=0,0,ROUND(AW37/AX37,0))) -> 0 | BA37: =AM37+AY37 -> 0 | BB37: =IF(BA37="","", IF($O$8="","",BA37/$O$8)) | BE37: =BA37-N37 -> 0 | BF37: =BE37/N37 -> #DIV/0! | BJ37: =IF($D37="","",IF($D37=BJ$16,$BA37,"")) | BK37: =IF($D37="","",IF($D37=BK$16,$BA37,"")) | BL37: =IF($D37="","",IF($D37=BL$16,$BA37,"")) | BM37: =IF($D37="","",IF($D37=BM$16,$BA37,"")) | BN37: =IF($D37="","",IF($D37=BN$16,$BA37,"")) | BO37: =IF($D37="","",IF($D37=BO$16,$BA37,"")) | BP37: =IF($D37="","",IF($D37=BP$16,$BA37,"")) | BQ37: =IF($D37="","",IF($D37=BQ$16,$BA37,"")) | ... BS37: =IF($D37="","",IF($D37=BS$16,$BA37,"")) | BT37: =IF(BA37="","",BA37-SUM(BJ37:BS37)) -> 0
A38: =CONCATENATE($C38,"-",$E38) -> A2-07-x | B38: =IF(E38="","",SUBTOTAL(3,$E$32:E38)) -> 7 | C38: =IF(E38="","",IF(B38<10,CONCATENATE($C$31,"-0",B38),CONCATENATE($C$31,"-",B38))) -> A2-07 | E38: x | L38: =IF(E38="","",(G38*I38*J38)) -> 0 | M38: 1 | N38: =IF(L38="","",IF(L38=0,0,(L38/M38))) -> 0 | O38: =IF(N38="","", IF($O$8="","",N38/$O$8)) | Q38: =LEFT(C38) -> A | S38: =IF(C38="","",CONCATENATE(C38,"|",E38)) -> A2-07|x | W38: =IF($D38="","",IF($D38=W$16,$N38,"")) | X38: =IF($D38="","",IF($D38=X$16,$N38,"")) | Y38: =IF($D38="","",IF($D38=Y$16,$N38,"")) | Z38: =IF($D38="","",IF($D38=Z$16,$N38,"")) | AA38: =IF($D38="","",IF($D38=AA$16,$N38,"")) | AB38: =IF($D38="","",IF($D38=AB$16,$N38,"")) | AC38: =IF($D38="","",IF($D38=AC$16,$N38,"")) | AD38: =IF($D38="","",IF($D38=AD$16,$N38,"")) | ... AF38: =IF($D38="","",IF($D38=AF$16,$N38,"")) | AG38: =IF(N38="","",N38-SUM(W38:AF38)) -> 0 | AM38: =REPORT!H55 -> 0 | AN38: =N38-AM38 -> 0 | AQ38: =F38 -> 0 | AR38: =G38 -> 0 | AS38: =H38 -> 0 | AT38: =I38 -> 0 | AU38: =J38 -> 0 | AV38: =K38 -> 0 | AW38: =IF(E38="","",ROUND(AR38*AT38*AU38,2)) -> 0 | AX38: =M38 -> 1 | AY38: =IF(AW38="","",IF(AW38=0,0,ROUND(AW38/AX38,0))) -> 0 | BA38: =AM38+AY38 -> 0 | BB38: =IF(BA38="","", IF($O$8="","",BA38/$O$8)) | BE38: =BA38-N38 -> 0 | BF38: =BE38/N38 -> #DIV/0! | BJ38: =IF($D38="","",IF($D38=BJ$16,$BA38,"")) | BK38: =IF($D38="","",IF($D38=BK$16,$BA38,"")) | BL38: =IF($D38="","",IF($D38=BL$16,$BA38,"")) | BM38: =IF($D38="","",IF($D38=BM$16,$BA38,"")) | BN38: =IF($D38="","",IF($D38=BN$16,$BA38,"")) | BO38: =IF($D38="","",IF($D38=BO$16,$BA38,"")) | BP38: =IF($D38="","",IF($D38=BP$16,$BA38,"")) | BQ38: =IF($D38="","",IF($D38=BQ$16,$BA38,"")) | ... BS38: =IF($D38="","",IF($D38=BS$16,$BA38,"")) | BT38: =IF(BA38="","",BA38-SUM(BJ38:BS38)) -> 0
A39: =CONCATENATE($C39,"-",$E39) -> A2-08-x | B39: =IF(E39="","",SUBTOTAL(3,$E$32:E39)) -> 8 | C39: =IF(E39="","",IF(B39<10,CONCATENATE($C$31,"-0",B39),CONCATENATE($C$31,"-",B39))) -> A2-08 | E39: x | L39: =IF(E39="","",(G39*I39*J39)) -> 0 | M39: 1 | N39: =IF(L39="","",IF(L39=0,0,(L39/M39))) -> 0 | O39: =IF(N39="","", IF($O$8="","",N39/$O$8)) | Q39: =LEFT(C39) -> A | S39: =IF(C39="","",CONCATENATE(C39,"|",E39)) -> A2-08|x | W39: =IF($D39="","",IF($D39=W$16,$N39,"")) | X39: =IF($D39="","",IF($D39=X$16,$N39,"")) | Y39: =IF($D39="","",IF($D39=Y$16,$N39,"")) | Z39: =IF($D39="","",IF($D39=Z$16,$N39,"")) | AA39: =IF($D39="","",IF($D39=AA$16,$N39,"")) | AB39: =IF($D39="","",IF($D39=AB$16,$N39,"")) | AC39: =IF($D39="","",IF($D39=AC$16,$N39,"")) | AD39: =IF($D39="","",IF($D39=AD$16,$N39,"")) | ... AF39: =IF($D39="","",IF($D39=AF$16,$N39,"")) | AG39: =IF(N39="","",N39-SUM(W39:AF39)) -> 0 | AM39: =REPORT!H56 -> 0 | AN39: =N39-AM39 -> 0 | AQ39: =F39 -> 0 | AR39: =G39 -> 0 | AS39: =H39 -> 0 | AT39: =I39 -> 0 | AU39: =J39 -> 0 | AV39: =K39 -> 0 | AW39: =IF(E39="","",ROUND(AR39*AT39*AU39,2)) -> 0 | AX39: =M39 -> 1 | AY39: =IF(AW39="","",IF(AW39=0,0,ROUND(AW39/AX39,0))) -> 0 | BA39: =AM39+AY39 -> 0 | BB39: =IF(BA39="","", IF($O$8="","",BA39/$O$8)) | BE39: =BA39-N39 -> 0 | BF39: =BE39/N39 -> #DIV/0! | BJ39: =IF($D39="","",IF($D39=BJ$16,$BA39,"")) | BK39: =IF($D39="","",IF($D39=BK$16,$BA39,"")) | BL39: =IF($D39="","",IF($D39=BL$16,$BA39,"")) | BM39: =IF($D39="","",IF($D39=BM$16,$BA39,"")) | BN39: =IF($D39="","",IF($D39=BN$16,$BA39,"")) | BO39: =IF($D39="","",IF($D39=BO$16,$BA39,"")) | BP39: =IF($D39="","",IF($D39=BP$16,$BA39,"")) | BQ39: =IF($D39="","",IF($D39=BQ$16,$BA39,"")) | ... BS39: =IF($D39="","",IF($D39=BS$16,$BA39,"")) | BT39: =IF(BA39="","",BA39-SUM(BJ39:BS39)) -> 0
A40: =CONCATENATE($C40,"-",$E40) -> A2-09-x | B40: =IF(E40="","",SUBTOTAL(3,$E$32:E40)) -> 9 | C40: =IF(E40="","",IF(B40<10,CONCATENATE($C$31,"-0",B40),CONCATENATE($C$31,"-",B40))) -> A2-09 | E40: x | L40: =IF(E40="","",(G40*I40*J40)) -> 0 | M40: 1 | N40: =IF(L40="","",IF(L40=0,0,(L40/M40))) -> 0 | O40: =IF(N40="","", IF($O$8="","",N40/$O$8)) | Q40: =LEFT(C40) -> A | S40: =IF(C40="","",CONCATENATE(C40,"|",E40)) -> A2-09|x | W40: =IF($D40="","",IF($D40=W$16,$N40,"")) | X40: =IF($D40="","",IF($D40=X$16,$N40,"")) | Y40: =IF($D40="","",IF($D40=Y$16,$N40,"")) | Z40: =IF($D40="","",IF($D40=Z$16,$N40,"")) | AA40: =IF($D40="","",IF($D40=AA$16,$N40,"")) | AB40: =IF($D40="","",IF($D40=AB$16,$N40,"")) | AC40: =IF($D40="","",IF($D40=AC$16,$N40,"")) | AD40: =IF($D40="","",IF($D40=AD$16,$N40,"")) | ... AF40: =IF($D40="","",IF($D40=AF$16,$N40,"")) | AG40: =IF(N40="","",N40-SUM(W40:AF40)) -> 0 | AM40: =REPORT!H57 -> 0 | AN40: =N40-AM40 -> 0 | AQ40: =F40 -> 0 | AR40: =G40 -> 0 | AS40: =H40 -> 0 | AT40: =I40 -> 0 | AU40: =J40 -> 0 | AV40: =K40 -> 0 | AW40: =IF(E40="","",ROUND(AR40*AT40*AU40,2)) -> 0 | AX40: =M40 -> 1 | AY40: =IF(AW40="","",IF(AW40=0,0,ROUND(AW40/AX40,0))) -> 0 | BA40: =AM40+AY40 -> 0 | BB40: =IF(BA40="","", IF($O$8="","",BA40/$O$8)) | BE40: =BA40-N40 -> 0 | BF40: =BE40/N40 -> #DIV/0! | BJ40: =IF($D40="","",IF($D40=BJ$16,$BA40,"")) | BK40: =IF($D40="","",IF($D40=BK$16,$BA40,"")) | BL40: =IF($D40="","",IF($D40=BL$16,$BA40,"")) | BM40: =IF($D40="","",IF($D40=BM$16,$BA40,"")) | BN40: =IF($D40="","",IF($D40=BN$16,$BA40,"")) | BO40: =IF($D40="","",IF($D40=BO$16,$BA40,"")) | BP40: =IF($D40="","",IF($D40=BP$16,$BA40,"")) | BQ40: =IF($D40="","",IF($D40=BQ$16,$BA40,"")) | ... BS40: =IF($D40="","",IF($D40=BS$16,$BA40,"")) | BT40: =IF(BA40="","",BA40-SUM(BJ40:BS40)) -> 0
A41: =CONCATENATE($C41,"-",$E41) -> A2-10-x | B41: =IF(E41="","",SUBTOTAL(3,$E$32:E41)) -> 10 | C41: =IF(E41="","",IF(B41<10,CONCATENATE($C$31,"-0",B41),CONCATENATE($C$31,"-",B41))) -> A2-10 | E41: x | L41: =IF(E41="","",(G41*I41*J41)) -> 0 | M41: 1 | N41: =IF(L41="","",IF(L41=0,0,(L41/M41))) -> 0 | O41: =IF(N41="","", IF($O$8="","",N41/$O$8)) | Q41: =LEFT(C41) -> A | S41: =IF(C41="","",CONCATENATE(C41,"|",E41)) -> A2-10|x | W41: =IF($D41="","",IF($D41=W$16,$N41,"")) | X41: =IF($D41="","",IF($D41=X$16,$N41,"")) | Y41: =IF($D41="","",IF($D41=Y$16,$N41,"")) | Z41: =IF($D41="","",IF($D41=Z$16,$N41,"")) | AA41: =IF($D41="","",IF($D41=AA$16,$N41,"")) | AB41: =IF($D41="","",IF($D41=AB$16,$N41,"")) | AC41: =IF($D41="","",IF($D41=AC$16,$N41,"")) | AD41: =IF($D41="","",IF($D41=AD$16,$N41,"")) | ... AF41: =IF($D41="","",IF($D41=AF$16,$N41,"")) | AG41: =IF(N41="","",N41-SUM(W41:AF41)) -> 0 | AM41: =REPORT!H58 -> 0 | AN41: =N41-AM41 -> 0 | AQ41: =F41 -> 0 | AR41: =G41 -> 0 | AS41: =H41 -> 0 | AT41: =I41 -> 0 | AU41: =J41 -> 0 | AV41: =K41 -> 0 | AW41: =IF(E41="","",ROUND(AR41*AT41*AU41,2)) -> 0 | AX41: =M41 -> 1 | AY41: =IF(AW41="","",IF(AW41=0,0,ROUND(AW41/AX41,0))) -> 0 | BA41: =AM41+AY41 -> 0 | BB41: =IF(BA41="","", IF($O$8="","",BA41/$O$8)) | BE41: =BA41-N41 -> 0 | BF41: =BE41/N41 -> #DIV/0! | BJ41: =IF($D41="","",IF($D41=BJ$16,$BA41,"")) | BK41: =IF($D41="","",IF($D41=BK$16,$BA41,"")) | BL41: =IF($D41="","",IF($D41=BL$16,$BA41,"")) | BM41: =IF($D41="","",IF($D41=BM$16,$BA41,"")) | BN41: =IF($D41="","",IF($D41=BN$16,$BA41,"")) | BO41: =IF($D41="","",IF($D41=BO$16,$BA41,"")) | BP41: =IF($D41="","",IF($D41=BP$16,$BA41,"")) | BQ41: =IF($D41="","",IF($D41=BQ$16,$BA41,"")) | ... BS41: =IF($D41="","",IF($D41=BS$16,$BA41,"")) | BT41: =IF(BA41="","",BA41-SUM(BJ41:BS41)) -> 0
C42: A3 | E42: A3. Salaries of team following survivors in project sites | N42: =SUM(N43:N52) -> 0 | O42: =IF(N42="","", IF($O$8="","",N42/$O$8)) | P42: =IF(OR(N42="",N42=0),"",N42/$N$221) | Q42: =LEFT(C42) -> A | W42: =SUM(W43:W52) -> 0 | X42: =SUM(X43:X52) -> 0 | Y42: =SUM(Y43:Y52) -> 0 | Z42: =SUM(Z43:Z52) -> 0 | AA42: =SUM(AA43:AA52) -> 0 | AB42: =SUM(AB43:AB52) -> 0 | AC42: =SUM(AC43:AC52) -> 0 | AD42: =SUM(AD43:AD52) -> 0 | ... AF42: =SUM(AF43:AF52) -> 0 | AG42: =IF(N42="","",N42-SUM(W42:AF42)) -> 0 | AM42: =SUM(AM43:AM52) -> 0 | AN42: =N42-AM42 -> 0 | AY42: =SUM(AY43:AY52) -> 0 | BA42: =SUM(BA43:BA52) -> 0 | BB42: =IF(BA42="","", IF($O$8="","",BA42/$O$8)) | BC42: =IF(OR(BA42="",BA42=0),"",BA42/$BA$221) | BE42: =SUM(BE43:BE52) -> 0 | BF42: =BE42/N42 -> #DIV/0! | BJ42: =SUM(BJ43:BJ52) -> 0 | BK42: =SUM(BK43:BK52) -> 0 | BL42: =SUM(BL43:BL52) -> 0 | BM42: =SUM(BM43:BM52) -> 0 | BN42: =SUM(BN43:BN52) -> 0 | BO42: =SUM(BO43:BO52) -> 0 | BP42: =SUM(BP43:BP52) -> 0 | BQ42: =SUM(BQ43:BQ52) -> 0 | ... BS42: =SUM(BS43:BS52) -> 0 | BT42: =IF(BA42="","",BA42-SUM(BJ42:BS42)) -> 0
A43: =CONCATENATE($C43,"-",$E43) -> A3-01-x | B43: =IF(E43="","",SUBTOTAL(3,$E$43:E43)) -> 1 | C43: =IF(E43="","",IF(B43<10,CONCATENATE($C$42,"-0",B43),CONCATENATE($C$42,"-",B43))) -> A3-01 | E43: x | L43: =IF(E43="","",(G43*I43*J43)) -> 0 | M43: 1 | N43: =IF(L43="","",IF(L43=0,0,(L43/M43))) -> 0 | O43: =IF(N43="","", IF($O$8="","",N43/$O$8)) | Q43: =LEFT(C43) -> A | S43: =IF(C43="","",CONCATENATE(C43,"|",E43)) -> A3-01|x | W43: =IF($D43="","",IF($D43=W$16,$N43,"")) | X43: =IF($D43="","",IF($D43=X$16,$N43,"")) | Y43: =IF($D43="","",IF($D43=Y$16,$N43,"")) | Z43: =IF($D43="","",IF($D43=Z$16,$N43,"")) | AA43: =IF($D43="","",IF($D43=AA$16,$N43,"")) | AB43: =IF($D43="","",IF($D43=AB$16,$N43,"")) | AC43: =IF($D43="","",IF($D43=AC$16,$N43,"")) | AD43: =IF($D43="","",IF($D43=AD$16,$N43,"")) | ... AF43: =IF($D43="","",IF($D43=AF$16,$N43,"")) | AG43: =IF(N43="","",N43-SUM(W43:AF43)) -> 0 | AM43: =REPORT!H60 -> 0 | AN43: =N43-AM43 -> 0 | AQ43: =F43 -> 0 | AR43: =G43 -> 0 | AS43: =H43 -> 0 | AT43: =I43 -> 0 | AU43: =J43 -> 0 | AV43: =K43 -> 0 | AW43: =IF(E43="","",ROUND(AR43*AT43*AU43,2)) -> 0 | AX43: =M43 -> 1 | AY43: =IF(AW43="","",IF(AW43=0,0,ROUND(AW43/AX43,0))) -> 0 | BA43: =AM43+AY43 -> 0 | BB43: =IF(BA43="","", IF($O$8="","",BA43/$O$8)) | BE43: =BA43-N43 -> 0 | BF43: =BE43/N43 -> #DIV/0! | BJ43: =IF($D43="","",IF($D43=BJ$16,$BA43,"")) | BK43: =IF($D43="","",IF($D43=BK$16,$BA43,"")) | BL43: =IF($D43="","",IF($D43=BL$16,$BA43,"")) | BM43: =IF($D43="","",IF($D43=BM$16,$BA43,"")) | BN43: =IF($D43="","",IF($D43=BN$16,$BA43,"")) | BO43: =IF($D43="","",IF($D43=BO$16,$BA43,"")) | BP43: =IF($D43="","",IF($D43=BP$16,$BA43,"")) | BQ43: =IF($D43="","",IF($D43=BQ$16,$BA43,"")) | ... BS43: =IF($D43="","",IF($D43=BS$16,$BA43,"")) | BT43: =IF(BA43="","",BA43-SUM(BJ43:BS43)) -> 0
A44: =CONCATENATE($C44,"-",$E44) -> A3-02-x | B44: =IF(E44="","",SUBTOTAL(3,$E$43:E44)) -> 2 | C44: =IF(E44="","",IF(B44<10,CONCATENATE($C$42,"-0",B44),CONCATENATE($C$42,"-",B44))) -> A3-02 | E44: x | L44: =IF(E44="","",(G44*I44*J44)) -> 0 | M44: 1 | N44: =IF(L44="","",IF(L44=0,0,(L44/M44))) -> 0 | O44: =IF(N44="","", IF($O$8="","",N44/$O$8)) | Q44: =LEFT(C44) -> A | S44: =IF(C44="","",CONCATENATE(C44,"|",E44)) -> A3-02|x | W44: =IF($D44="","",IF($D44=W$16,$N44,"")) | X44: =IF($D44="","",IF($D44=X$16,$N44,"")) | Y44: =IF($D44="","",IF($D44=Y$16,$N44,"")) | Z44: =IF($D44="","",IF($D44=Z$16,$N44,"")) | AA44: =IF($D44="","",IF($D44=AA$16,$N44,"")) | AB44: =IF($D44="","",IF($D44=AB$16,$N44,"")) | AC44: =IF($D44="","",IF($D44=AC$16,$N44,"")) | AD44: =IF($D44="","",IF($D44=AD$16,$N44,"")) | ... AF44: =IF($D44="","",IF($D44=AF$16,$N44,"")) | AG44: =IF(N44="","",N44-SUM(W44:AF44)) -> 0 | AM44: =REPORT!H61 -> 0 | AN44: =N44-AM44 -> 0 | AQ44: =F44 -> 0 | AR44: =G44 -> 0 | AS44: =H44 -> 0 | AT44: =I44 -> 0 | AU44: =J44 -> 0 | AV44: =K44 -> 0 | AW44: =IF(E44="","",ROUND(AR44*AT44*AU44,2)) -> 0 | AX44: =M44 -> 1 | AY44: =IF(AW44="","",IF(AW44=0,0,ROUND(AW44/AX44,0))) -> 0 | BA44: =AM44+AY44 -> 0 | BB44: =IF(BA44="","", IF($O$8="","",BA44/$O$8)) | BE44: =BA44-N44 -> 0 | BF44: =BE44/N44 -> #DIV/0! | BJ44: =IF($D44="","",IF($D44=BJ$16,$BA44,"")) | BK44: =IF($D44="","",IF($D44=BK$16,$BA44,"")) | BL44: =IF($D44="","",IF($D44=BL$16,$BA44,"")) | BM44: =IF($D44="","",IF($D44=BM$16,$BA44,"")) | BN44: =IF($D44="","",IF($D44=BN$16,$BA44,"")) | BO44: =IF($D44="","",IF($D44=BO$16,$BA44,"")) | BP44: =IF($D44="","",IF($D44=BP$16,$BA44,"")) | BQ44: =IF($D44="","",IF($D44=BQ$16,$BA44,"")) | ... BS44: =IF($D44="","",IF($D44=BS$16,$BA44,"")) | BT44: =IF(BA44="","",BA44-SUM(BJ44:BS44)) -> 0
A45: =CONCATENATE($C45,"-",$E45) -> A3-03-x | B45: =IF(E45="","",SUBTOTAL(3,$E$43:E45)) -> 3 | C45: =IF(E45="","",IF(B45<10,CONCATENATE($C$42,"-0",B45),CONCATENATE($C$42,"-",B45))) -> A3-03 | E45: x | L45: =IF(E45="","",(G45*I45*J45)) -> 0 | M45: 1 | N45: =IF(L45="","",IF(L45=0,0,(L45/M45))) -> 0 | O45: =IF(N45="","", IF($O$8="","",N45/$O$8)) | Q45: =LEFT(C45) -> A | S45: =IF(C45="","",CONCATENATE(C45,"|",E45)) -> A3-03|x | W45: =IF($D45="","",IF($D45=W$16,$N45,"")) | X45: =IF($D45="","",IF($D45=X$16,$N45,"")) | Y45: =IF($D45="","",IF($D45=Y$16,$N45,"")) | Z45: =IF($D45="","",IF($D45=Z$16,$N45,"")) | AA45: =IF($D45="","",IF($D45=AA$16,$N45,"")) | AB45: =IF($D45="","",IF($D45=AB$16,$N45,"")) | AC45: =IF($D45="","",IF($D45=AC$16,$N45,"")) | AD45: =IF($D45="","",IF($D45=AD$16,$N45,"")) | ... AF45: =IF($D45="","",IF($D45=AF$16,$N45,"")) | AG45: =IF(N45="","",N45-SUM(W45:AF45)) -> 0 | AM45: =REPORT!H62 -> 0 | AN45: =N45-AM45 -> 0 | AQ45: =F45 -> 0 | AR45: =G45 -> 0 | AS45: =H45 -> 0 | AT45: =I45 -> 0 | AU45: =J45 -> 0 | AV45: =K45 -> 0 | AW45: =IF(E45="","",ROUND(AR45*AT45*AU45,2)) -> 0 | AX45: =M45 -> 1 | AY45: =IF(AW45="","",IF(AW45=0,0,ROUND(AW45/AX45,0))) -> 0 | BA45: =AM45+AY45 -> 0 | BB45: =IF(BA45="","", IF($O$8="","",BA45/$O$8)) | BE45: =BA45-N45 -> 0 | BF45: =BE45/N45 -> #DIV/0! | BJ45: =IF($D45="","",IF($D45=BJ$16,$BA45,"")) | BK45: =IF($D45="","",IF($D45=BK$16,$BA45,"")) | BL45: =IF($D45="","",IF($D45=BL$16,$BA45,"")) | BM45: =IF($D45="","",IF($D45=BM$16,$BA45,"")) | BN45: =IF($D45="","",IF($D45=BN$16,$BA45,"")) | BO45: =IF($D45="","",IF($D45=BO$16,$BA45,"")) | BP45: =IF($D45="","",IF($D45=BP$16,$BA45,"")) | BQ45: =IF($D45="","",IF($D45=BQ$16,$BA45,"")) | ... BS45: =IF($D45="","",IF($D45=BS$16,$BA45,"")) | BT45: =IF(BA45="","",BA45-SUM(BJ45:BS45)) -> 0
A46: =CONCATENATE($C46,"-",$E46) -> A3-04-x | B46: =IF(E46="","",SUBTOTAL(3,$E$43:E46)) -> 4 | C46: =IF(E46="","",IF(B46<10,CONCATENATE($C$42,"-0",B46),CONCATENATE($C$42,"-",B46))) -> A3-04 | E46: x | L46: =IF(E46="","",(G46*I46*J46)) -> 0 | M46: 1 | N46: =IF(L46="","",IF(L46=0,0,(L46/M46))) -> 0 | O46: =IF(N46="","", IF($O$8="","",N46/$O$8)) | Q46: =LEFT(C46) -> A | S46: =IF(C46="","",CONCATENATE(C46,"|",E46)) -> A3-04|x | W46: =IF($D46="","",IF($D46=W$16,$N46,"")) | X46: =IF($D46="","",IF($D46=X$16,$N46,"")) | Y46: =IF($D46="","",IF($D46=Y$16,$N46,"")) | Z46: =IF($D46="","",IF($D46=Z$16,$N46,"")) | AA46: =IF($D46="","",IF($D46=AA$16,$N46,"")) | AB46: =IF($D46="","",IF($D46=AB$16,$N46,"")) | AC46: =IF($D46="","",IF($D46=AC$16,$N46,"")) | AD46: =IF($D46="","",IF($D46=AD$16,$N46,"")) | ... AF46: =IF($D46="","",IF($D46=AF$16,$N46,"")) | AG46: =IF(N46="","",N46-SUM(W46:AF46)) -> 0 | AM46: =REPORT!H63 -> 0 | AN46: =N46-AM46 -> 0 | AQ46: =F46 -> 0 | AR46: =G46 -> 0 | AS46: =H46 -> 0 | AT46: =I46 -> 0 | AU46: =J46 -> 0 | AV46: =K46 -> 0 | AW46: =IF(E46="","",ROUND(AR46*AT46*AU46,2)) -> 0 | AX46: =M46 -> 1 | AY46: =IF(AW46="","",IF(AW46=0,0,ROUND(AW46/AX46,0))) -> 0 | BA46: =AM46+AY46 -> 0 | BB46: =IF(BA46="","", IF($O$8="","",BA46/$O$8)) | BE46: =BA46-N46 -> 0 | BF46: =BE46/N46 -> #DIV/0! | BJ46: =IF($D46="","",IF($D46=BJ$16,$BA46,"")) | BK46: =IF($D46="","",IF($D46=BK$16,$BA46,"")) | BL46: =IF($D46="","",IF($D46=BL$16,$BA46,"")) | BM46: =IF($D46="","",IF($D46=BM$16,$BA46,"")) | BN46: =IF($D46="","",IF($D46=BN$16,$BA46,"")) | BO46: =IF($D46="","",IF($D46=BO$16,$BA46,"")) | BP46: =IF($D46="","",IF($D46=BP$16,$BA46,"")) | BQ46: =IF($D46="","",IF($D46=BQ$16,$BA46,"")) | ... BS46: =IF($D46="","",IF($D46=BS$16,$BA46,"")) | BT46: =IF(BA46="","",BA46-SUM(BJ46:BS46)) -> 0
...

Sheet REPORT
B2: FINANCIAL REPORT | AA2: DETAILS - EXPENSES PER MONTH
C4: =BUDGET!D4 -> Project Name: | D4: =BUDGET!E4 -> 0
C6: =BUDGET!D6 -> Partner Organisation Name: | D6: =BUDGET!E6 -> 0
C8: Reporting currency: | D8: =BUDGET!N4 -> 0
C10: Reporting period: | D10: =IF(J10="","",CONCATENATE(IF(MONTH(J10)<=3,"Q1",IF(MONTH(J10)<=6,"Q2",IF(MONTH(J10)<=9,"Q3","Q4"))),".",YEAR(J10))) | G10: From | I10: To
C12: PART 1: INCOME | H12: =CONCATENATE("ACTUALS - to be filled by"," ",$O$33) -> ACTUALS - to be filled by TBD | O12: =CONCATENATE("FUNDS TRANFER TO LOCAL PARTNER(S) - to be filled by"," ",$O$33) -> FUNDS TRANFER TO LOCAL PARTNER(S) - to be filled by TBD
C13: Payment Schedule | D13: Approx. Date | E13: Descriptions | F13: Budget | G13: % | H13: Actual Funds received | I13: Burn rate | J13: Invoice date | K13: Recevied date | L13: Remarks/Notes | O13: =CONCATENATE(BUDGET!W16," ",">>>>") -> TBD >>>> | P13: =BUDGET!X16 -> Co/sub-partner 1 | Q13: =BUDGET!Y16 -> Co/sub-partner 2 | R13: =BUDGET!Z16 -> Co/sub-partner 3 | S13: =BUDGET!AA16 -> Co/sub-partner 4 | T13: =BUDGET!AB16 -> Co/sub-partner 5 | U13: =BUDGET!AC16 -> Co/sub-partner 6 | V13: =BUDGET!AD16 -> Co/sub-partner 7 | W13: =BUDGET!AE16 -> Co/sub-partner 8 | X13: =BUDGET!AF16 -> Co/sub-partner 9
O14: =BUDGET!W17 -> 0 | P14: =BUDGET!X17 -> 0 | Q14: =BUDGET!Y17 -> 0 | R14: =BUDGET!Z17 -> 0 | S14: =BUDGET!AA17 -> 0 | T14: =BUDGET!AB17 -> 0 | U14: =BUDGET!AC17 -> 0 | V14: =BUDGET!AD17 -> 0 | ... X14: =BUDGET!AF17 -> 0
O15: =IF(OR(BUDGET!$N$14="",BUDGET!$N$14="Initital Budget"),BUDGET!W225,BUDGET!BJ225) -> 0 | P15: =IF(OR(BUDGET!$N$14="",BUDGET!$N$14="Initital Budget"),BUDGET!X225,BUDGET!BK225) -> 0 | Q15: =IF(OR(BUDGET!$N$14="",BUDGET!$N$14="Initital Budget"),BUDGET!Y225,BUDGET!BL225) -> 0 | R15: =IF(OR(BUDGET!$N$14="",BUDGET!$N$14="Initital Budget"),BUDGET!Z225,BUDGET!BM225) -> 0 | S15: =IF(OR(BUDGET!$N$14="",BUDGET!$N$14="Initital Budget"),BUDGET!AA225,BUDGET!BN225) -> 0 | T15: =IF(OR(BUDGET!$N$14="",BUDGET!$N$14="Initital Budget"),BUDGET!AB225,BUDGET!BO225) -> 0 | U15: =IF(OR(BUDGET!$N$14="",BUDGET!$N$14="Initital Budget"),BUDGET!AC225,BUDGET!BP225) -> 0 | V15: =IF(OR(BUDGET!$N$14="",BUDGET!$N$14="Initital Budget"),BUDGET!AD225,BUDGET!BQ225) -> 0 | ... X15: =IF(OR(BUDGET!$N$14="",BUDGET!$N$14="Initital Budget"),BUDGET!AF225,BUDGET!BS225) -> 0
C16: TOTAL INCOME | F16: =BUDGET!N225 -> 0 | G16: =SUM(G17:G26) -> 0 | H16: =SUM(H17:H26) -> 0 | O16: =SUM(O17:O26) -> 0 | P16: =SUM(P17:P26) -> 0 | Q16: =SUM(Q17:Q26) -> 0 | R16: =SUM(R17:R26) -> 0 | S16: =SUM(S17:S26) -> 0 | T16: =SUM(T17:T26) -> 0 | U16: =SUM(U17:U26) -> 0 | V16: =SUM(V17:V26) -> 0 | ... X16: =SUM(X17:X26) -> 0
C17: 1st tranche | G17: =IF(F17="","",F17/$F$16) | I17: =IF(H17="","",SUM(H$17:$H17)/$F$16) | O17: =-SUM(P17:X17) -> 0
C18: 2nd tranche | G18: =IF(F18="","",F18/$F$16) | I18: =IF(H18="","",SUM(H$17:$H18)/$F$16) | O18: =-SUM(P18:X18) -> 0
C19: 3rd tranche | G19: =IF(F19="","",F19/$F$16) | I19: =IF(H19="","",SUM(H$17:$H19)/$F$16) | O19: =-SUM(P19:X19) -> 0
C20: 4th tranche | G20: =IF(F20="","",F20/$F$16) | I20: =IF(H20="","",SUM(H$17:$H20)/$F$16) | O20: =-SUM(P20:X20) -> 0
C21: 5th tranche | G21: =IF(F21="","",F21/$F$16) | I21: =IF(H21="","",SUM(H$17:$H21)/$F$16) | O21: =-SUM(P21:X21) -> 0
C22: 6th tranche | G22: =IF(F22="","",F22/$F$16) | I22: =IF(H22="","",SUM(H$17:$H22)/$F$16) | O22: =-SUM(P22:X22) -> 0
C23: 7th tranche | G23: =IF(F23="","",F23/$F$16) | I23: =IF(H23="","",SUM(H$17:$H23)/$F$16) | O23: =-SUM(P23:X23) -> 0
C24: 8th tranche | G24: =IF(F24="","",F24/$F$16) | I24: =IF(H24="","",SUM(H$17:$H24)/$F$16) | O24: =-SUM(P24:X24) -> 0
C25: 9th tranche | G25: =IF(F25="","",F25/$F$16) | I25: =IF(H25="","",SUM(H$17:$H25)/$F$16) | O25: =-SUM(P25:X25) -> 0
C26: 10th tranche | G26: =IF(F26="","",F26/$F$16) | I26: =IF(H26="","",SUM(H$17:$H26)/$F$16) | O26: =-SUM(P26:X26) -> 0
C27: FUNDS BALANCE (to be received) | F27: =IF((F16-SUM(F17:F26))=0,"OK",_xleta.PROB) -> OK | G27: =IF(SUM(F17:F26)/SUM(F17:F26)=100%,"OK",_xleta.PROB) -> #DIV/0! | H27: =F16-H16 -> 0 | I27: =IF(H27="","",SUM(H$17:$H26)/$F$16) -> #DIV/0! | O27: =O15+O16 -> 0 | P27: =P15-P16 -> 0 | Q27: =Q15-Q16 -> 0 | R27: =R15-R16 -> 0 | S27: =S15-S16 -> 0 | T27: =T15-T16 -> 0 | U27: =U15-U16 -> 0 | V27: =V15-V16 -> 0 | W27: =W15-W16 -> 0 | X27: =X15-X16 -> 0
C29: CASH BALANCE | H29: =H16-H242 -> 0 | I29: =H29-SUM(O29:X29) -> 0 | O29: =H16+O16-O242 -> 0 | P29: =P16-P242 -> 0 | Q29: =-Q16-Q242 -> 0 | R29: =-R16-R242 -> 0 | S29: =-S16-S242 -> 0 | T29: =-T16-T242 -> 0 | U29: =-U16-U242 -> 0 | V29: =-V16-V242 -> 0 | W29: =-W16-W242 -> 0 | X29: =-X16-X242 -> 0
C31: PART 2: EXPENDITURE | H31: TOTAL EXPENSES REPORTED | AA31: =IF(AA33="","",YEAR(AA33)) | AB31: =IF(AB33="","",YEAR(AB33)) | AC31: =IF(AC33="","",YEAR(AC33)) | AD31: =IF(AD33="","",YEAR(AD33)) | AE31: =IF(AE33="","",YEAR(AE33)) | AF31: =IF(AF33="","",YEAR(AF33)) | AG31: =IF(AG33="","",YEAR(AG33)) | AH31: =IF(AH33="","",YEAR(AH33)) | ... BJ31: =IF(BJ33="","",YEAR(BJ33))
C33: =BUDGET!C16 -> Budget line | D33: =BUDGET!D16 -> Partner names | E33: =BUDGET!E16 -> Description of the expenditure | F33: Budget | H33: Actuals | I33: Burn rate | J33: Variance B vs. A | K33: Comments and Justifications | N33: Total vs. details | O33: =BUDGET!W16 -> TBD | P33: =BUDGET!X16 -> Co/sub-partner 1 | Q33: =BUDGET!Y16 -> Co/sub-partner 2 | R33: =BUDGET!Z16 -> Co/sub-partner 3 | S33: =BUDGET!AA16 -> Co/sub-partner 4 | T33: =BUDGET!AB16 -> Co/sub-partner 5 | U33: =BUDGET!AC16 -> Co/sub-partner 6 | V33: =BUDGET!AD16 -> Co/sub-partner 7 | ... X33: =BUDGET!AF16 -> Co/sub-partner 9 | Y33: Partner alloc | AA33: =IF(J10="","",(EDATE(H10,0))) | AB33: =IF(AA33="","", IF(EDATE(AA33,1) <= $J$10, EDATE(AA33,1),"")) | AC33: =IF(AB33="","", IF(EDATE(AB33,1) <= $J$10, EDATE(AB33,1),"")) | AD33: =IF(AC33="","", IF(EDATE(AC33,1) <= $J$10, EDATE(AC33,1),"")) | AE33: =IF(AD33="","", IF(EDATE(AD33,1) <= $J$10, EDATE(AD33,1),"")) | AF33: =IF(AE33="","", IF(EDATE(AE33,1) <= $J$10, EDATE(AE33,1),"")) | AG33: =IF(AF33="","", IF(EDATE(AF33,1) <= $J$10, EDATE(AF33,1),"")) | AH33: =IF(AG33="","", IF(EDATE(AG33,1) <= $J$10, EDATE(AG33,1),"")) | AI33: =IF(AH33="","", IF(EDATE(AH33,1) <= $J$10, EDATE(AH33,1),"")) | ... BJ33: =IF(BI33="","", IF(EDATE(BI33,1) <= $J$10, EDATE(BI33,1),""))
F34: =BUDGET!$N$4 -> 0 | G34: x | H34: =BUDGET!$N$4 -> 0 | I34: % | J34: =BUDGET!$N$4 -> 0 | N34: verif | P34: =BUDGET!$N$4 -> 0 | Q34: =BUDGET!$N$4 -> 0 | R34: =BUDGET!$N$4 -> 0 | S34: =BUDGET!$N$4 -> 0 | T34: =BUDGET!$N$4 -> 0 | U34: =BUDGET!$N$4 -> 0 | V34: =BUDGET!$N$4 -> 0 | W34: =BUDGET!$N$4 -> 0 | X34: =BUDGET!$N$4 -> 0 | Y34: verif | AA34: =IF(AA33="","",MONTH(AA33)) | AB34: =IF(AB33="","",MONTH(AB33)) | AC34: =IF(AC33="","",MONTH(AC33)) | AD34: =IF(AD33="","",MONTH(AD33)) | AE34: =IF(AE33="","",MONTH(AE33)) | AF34: =IF(AF33="","",MONTH(AF33)) | AG34: =IF(AG33="","",MONTH(AG33)) | AH34: =IF(AH33="","",MONTH(AH33)) | ... BJ34: =IF(BJ33="","",MONTH(BJ33))
C35: x | E35: x | F35: x | G35: x | H35: x | I35: x | J35: x | K35: x | M35: x | N35: x | P35: x | Q35: x | X35: x | AA35: x | AB35: x | AC35: x | AD35: x | AE35: x | AF35: x | AG35: x | AH35: x | AI35: x | AJ35: x | AK35: x | AL35: x | AM35: x | AN35: x | AO35: x | AP35: x | AQ35: x | AR35: x | AS35: x | AT35: x | AU35: x | AV35: x | AW35: x | AX35: x | AY35: x | AZ35: x | BA35: x | BB35: x | BC35: x | BD35: x | BE35: x | BF35: x | BG35: x | BH35: x | BI35: x | BJ35: x | BK35: x
